BEGIN:VCALENDAR
VERSION:2.0
PRODID:-//Plone.org//NONSGML plone.app.event//EN
X-WR-TIMEZONE:Europe/Vienna
BEGIN:VEVENT
SUMMARY:Abschlussarbeiten 18|19
DTSTART;TZID=Europe/Vienna:20190618T160000
DTSTAMP:20260424T132748Z
UID:9831fa38f4854b76f73ecbc8a72ba599@www.akbild.ac.at
CREATED:20220312T001732Z
LAST-MODIFIED:20240802T102502Z
URL:https://www.akbild.ac.at/de/presse/2019/abschlussarbeiten-18-19/SubEve
 nt
END:VEVENT
BEGIN:VTIMEZONE
TZID:Europe/Vienna
X-LIC-LOCATION:Europe/Vienna
BEGIN:DAYLIGHT
DTSTART:20190331T030000
TZNAME:CEST
TZOFFSETFROM:+0100
TZOFFSETTO:+0200
END:DAYLIGHT
END:VTIMEZONE
END:VCALENDAR
