BEGIN:VCALENDAR
VERSION:2.0
PRODID:-//Plone.org//NONSGML plone.app.event//EN
X-WR-TIMEZONE:Europe/Vienna
BEGIN:VEVENT
SUMMARY:Praxis des Schreibens für KünstlerInnen
DTSTART;TZID=Europe/Vienna:20080603T170000
DTEND;TZID=Europe/Vienna:20080603T220000
DTSTAMP:20260423T114330Z
UID:bc41c2185e26b2e941009c661f2053f9@www.akbild.ac.at
CREATED:20220312T012404Z
DESCRIPTION:Über das Verfassen von Texten für Presse- und Ausstellungs- 
 ankündigungen\, Förderungs- oder Sponsorenansuchen\n \n Workshop geleite
 t von Brigitte Borchhardt-Birbaumer
LAST-MODIFIED:20240919T080617Z
URL:https://www.akbild.ac.at/de/universitaet/absolvent_innen/veranstaltung
 en/2008/akbild_event.2008-05-09.2861611911
END:VEVENT
BEGIN:VTIMEZONE
TZID:Europe/Vienna
X-LIC-LOCATION:Europe/Vienna
BEGIN:DAYLIGHT
DTSTART:20080330T030000
TZNAME:CEST
TZOFFSETFROM:+0100
TZOFFSETTO:+0200
END:DAYLIGHT
END:VTIMEZONE
END:VCALENDAR
