BEGIN:VCALENDAR
VERSION:2.0
PRODID:-//Plone.org//NONSGML plone.app.event//EN
X-WR-TIMEZONE:Europe/Vienna
BEGIN:VEVENT
SUMMARY:Job Descriptions. KünstlerInnen in einer veränderten Berufswelt
DTSTART;VALUE=DATE:20081017
DTEND;VALUE=DATE:20081019
DTSTAMP:20260425T162414Z
UID:71faeb6d6926c183b965ba3c82ab8f66@www.akbild.ac.at
CREATED:20220312T012405Z
DESCRIPTION:Symposium der Akademie der bildenden Künste Wien und der Mont
 ag Stiftung Bildende Kunst\, Bonn im Rahmen der Veranstaltungsreihe „Her
 aus aus dem Elfenbeinturm!“
LAST-MODIFIED:20240919T080617Z
URL:https://www.akbild.ac.at/de/universitaet/absolvent_innen/veranstaltung
 en/2008/akbild_event.2008-09-12.6357353493
END:VEVENT
END:VCALENDAR
