BEGIN:VCALENDAR
VERSION:2.0
PRODID:-//Plone.org//NONSGML plone.app.event//EN
X-WR-TIMEZONE:Europe/Vienna
BEGIN:VEVENT
SUMMARY:Praxis des Schreibens für KünstlerInnen
DTSTART;TZID=Europe/Vienna:20090513T171500
DTEND;TZID=Europe/Vienna:20090513T210000
DTSTAMP:20260423T114110Z
UID:ca906a3a02211183da4f5aba9bda041d@www.akbild.ac.at
CREATED:20220312T012421Z
DESCRIPTION:Über das Verfassen von Texten für Presse- und Ausstellungsan
 kündigungen\, Förderungs- oder Sponsorenansuchen\n \n Workshop\, geleite
 t von Brigitte Borchhardt-Birbaumer
LAST-MODIFIED:20240919T080617Z
URL:https://www.akbild.ac.at/de/universitaet/absolvent_innen/veranstaltung
 en/2009/akbild_event.2009-04-20.2145886207
END:VEVENT
BEGIN:VTIMEZONE
TZID:Europe/Vienna
X-LIC-LOCATION:Europe/Vienna
BEGIN:DAYLIGHT
DTSTART:20090329T030000
TZNAME:CEST
TZOFFSETFROM:+0100
TZOFFSETTO:+0200
END:DAYLIGHT
END:VTIMEZONE
END:VCALENDAR
