BEGIN:VCALENDAR
VERSION:2.0
PRODID:-//Plone.org//NONSGML plone.app.event//EN
X-WR-TIMEZONE:Europe/Vienna
BEGIN:VEVENT
SUMMARY:Über Kunst schreiben | Texte\, Analysen\, Selbstversuch
DTSTART;TZID=Europe/Vienna:20090603T190000
DTSTAMP:20260425T144747Z
UID:15cdf7dbf46844b20c8ef55eb62dc032@www.akbild.ac.at
CREATED:20220312T012417Z
DESCRIPTION:Lecture von Moussa Kone und Erwin Uhrmann
LAST-MODIFIED:20240919T080617Z
URL:https://www.akbild.ac.at/de/universitaet/absolvent_innen/veranstaltung
 en/2009/akbild_event.2009-04-23.2906563993
END:VEVENT
BEGIN:VTIMEZONE
TZID:Europe/Vienna
X-LIC-LOCATION:Europe/Vienna
BEGIN:DAYLIGHT
DTSTART:20090329T030000
TZNAME:CEST
TZOFFSETFROM:+0100
TZOFFSETTO:+0200
END:DAYLIGHT
END:VTIMEZONE
END:VCALENDAR
