BEGIN:VCALENDAR
VERSION:2.0
PRODID:-//Plone.org//NONSGML plone.app.event//EN
X-WR-TIMEZONE:Europe/Vienna
BEGIN:VEVENT
SUMMARY:How to look\, How to see and How to be critical?
DTSTART;VALUE=DATE:20091002
DTEND;VALUE=DATE:20091005
DTSTAMP:20260425T105629Z
UID:1373430133903ad999b1dbd616ee7449@www.akbild.ac.at
CREATED:20220312T012424Z
DESCRIPTION:Roland Rainer Symposium organisiert and kuratiert vom Institut
  für Kunst und Architektur\, Docomomo Austria und die ÖGFA.\n \n Exkursi
 on ausgebucht!\n \n weitere info bei www.oegfa.at
LAST-MODIFIED:20240919T080617Z
URL:https://www.akbild.ac.at/de/universitaet/absolvent_innen/veranstaltung
 en/2009/akbild_event.2009-09-14.1110685206
END:VEVENT
END:VCALENDAR
