BEGIN:VCALENDAR
VERSION:2.0
PRODID:-//Plone.org//NONSGML plone.app.event//EN
X-WR-TIMEZONE:Europe/Vienna
BEGIN:VEVENT
SUMMARY:Material für die Zukunft
DTSTART;TZID=Europe/Vienna:20120602T190000
DTSTAMP:20260423T101111Z
UID:146b6905a30a2834fe70bd418030d11e@www.akbild.ac.at
CREATED:20220312T012641Z
DESCRIPTION:Der Alumniverein der Akademie der bildenden Künste Wien und O
 FROOM laden im Rahmen der Architekturtage 2012 internationale Innovationst
 räger_innen ein\, im Pecha Kucha Format (20 Folien x 20 sek Sprechzeit pr
 o Vortrag) neue Materialien und Produkte für Architektur vorzustellen.
LAST-MODIFIED:20240919T080614Z
URL:https://www.akbild.ac.at/de/universitaet/absolvent_innen/veranstaltung
 en/2012/akbild_event.2012-05-30.3751936153
END:VEVENT
BEGIN:VTIMEZONE
TZID:Europe/Vienna
X-LIC-LOCATION:Europe/Vienna
BEGIN:DAYLIGHT
DTSTART:20120325T030000
TZNAME:CEST
TZOFFSETFROM:+0100
TZOFFSETTO:+0200
END:DAYLIGHT
END:VTIMEZONE
END:VCALENDAR
