BEGIN:VCALENDAR
VERSION:2.0
PRODID:-//Plone.org//NONSGML plone.app.event//EN
X-WR-TIMEZONE:Europe/Vienna
BEGIN:VEVENT
SUMMARY:Prometheus im Kunstmarkt | Empowerment Workshops für Künstler_in
 nen
DTSTART;VALUE=DATE:20120910
DTEND;VALUE=DATE:20120925
DTSTAMP:20260422T222710Z
UID:13e2528d159e1398962c988627f03abe@www.akbild.ac.at
CREATED:20220312T012646Z
DESCRIPTION:Ein Projekt von kulturen in bewegung/vidc in Kooperation mit d
 er IG Bildende Kunst und dem Alumniverein der Akademie der bildenden Küns
 te Wien. Gefördert durch die Österreichische Entwicklungszusammenarbeit.
 \n \n 10.09.2012\, 14.00 - 19.00 h\, IG Bildende Kunst\n \n 17.09.2012\, 1
 4.00 - 19.00 h\, IG Bildende Kunst\n \n 24.09.2012\, 14.00 - 19.00 h\, Aka
 demie der bildenden Künste Wien
LAST-MODIFIED:20240919T080614Z
URL:https://www.akbild.ac.at/de/universitaet/absolvent_innen/veranstaltung
 en/2012/akbild_event.2012-07-03.6875392999
END:VEVENT
END:VCALENDAR
