BEGIN:VCALENDAR
VERSION:2.0
PRODID:-//Plone.org//NONSGML plone.app.event//EN
X-WR-TIMEZONE:Europe/Vienna
BEGIN:VEVENT
SUMMARY:Die Kunst der Präsentation | Präsentationsformen schriftlich und
  mündlich | Workshop mit Doris Rothauer
DTSTART;TZID=Europe/Vienna:20130515T160000
DTEND;TZID=Europe/Vienna:20130515T200000
DTSTAMP:20260423T114112Z
UID:74ef1701586b946cefc144fc62af0719@www.akbild.ac.at
CREATED:20220312T012710Z
LAST-MODIFIED:20240919T080614Z
URL:https://www.akbild.ac.at/de/universitaet/absolvent_innen/veranstaltung
 en/2013/akbild_event.2013-05-02.8540789735
END:VEVENT
BEGIN:VTIMEZONE
TZID:Europe/Vienna
X-LIC-LOCATION:Europe/Vienna
BEGIN:DAYLIGHT
DTSTART:20130331T030000
TZNAME:CEST
TZOFFSETFROM:+0100
TZOFFSETTO:+0200
END:DAYLIGHT
END:VTIMEZONE
END:VCALENDAR
