BEGIN:VCALENDAR
VERSION:2.0
PRODID:-//Plone.org//NONSGML plone.app.event//EN
X-WR-TIMEZONE:Europe/Vienna
BEGIN:VEVENT
SUMMARY:Praxis des Schreibens für Künstler_innen
DTSTART;TZID=Europe/Vienna:20140521T180000
DTEND;TZID=Europe/Vienna:20140521T213000
DTSTAMP:20260423T113232Z
UID:fe94b86fac6074161b4b3c954a1745e0@www.akbild.ac.at
CREATED:20220312T012740Z
DESCRIPTION:Über das Verfassen von Texten für Presse- und Ausstellungs- 
 ankündigungen\, Förderungs- oder Sponsorenansuchen\n \n Eine Einführung
  mit Übungen geleitet von Brigitte Borchhardt-Birbaumer\n \n \n Diese Ver
 anstaltung ist kostenlos.
LAST-MODIFIED:20240919T080614Z
URL:https://www.akbild.ac.at/de/universitaet/absolvent_innen/veranstaltung
 en/2014/akbild_event.2014-04-04.8423607785
END:VEVENT
BEGIN:VTIMEZONE
TZID:Europe/Vienna
X-LIC-LOCATION:Europe/Vienna
BEGIN:DAYLIGHT
DTSTART:20140330T030000
TZNAME:CEST
TZOFFSETFROM:+0100
TZOFFSETTO:+0200
END:DAYLIGHT
END:VTIMEZONE
END:VCALENDAR
