BEGIN:VCALENDAR
VERSION:2.0
PRODID:-//Plone.org//NONSGML plone.app.event//EN
X-WR-TIMEZONE:Europe/Vienna
BEGIN:VEVENT
SUMMARY:Ernst A. Plischke Preis 2014
DTSTART;TZID=Europe/Vienna:20141022T190000
DTSTAMP:20260423T230054Z
UID:f77573340836671a2907bb7d18989ca0@www.akbild.ac.at
CREATED:20220312T012756Z
DESCRIPTION:Die Ernst A. Plischke Gesellschaft lädt zur Vergabe des dritt
 en Ernst A.\n Plischke-Preises und der Anerkennungen ein.  Zu diesem Anla
 ss wird auch\n eine Publikation mit allen nominierten Bauten präsentiert.
LAST-MODIFIED:20240919T080614Z
URL:https://www.akbild.ac.at/de/universitaet/absolvent_innen/veranstaltung
 en/2014/ernst-a.-plischke-preis-2014
END:VEVENT
BEGIN:VTIMEZONE
TZID:Europe/Vienna
X-LIC-LOCATION:Europe/Vienna
BEGIN:DAYLIGHT
DTSTART:20140330T030000
TZNAME:CEST
TZOFFSETFROM:+0100
TZOFFSETTO:+0200
END:DAYLIGHT
END:VTIMEZONE
END:VCALENDAR
