BEGIN:VCALENDAR
VERSION:2.0
PRODID:-//Plone.org//NONSGML plone.app.event//EN
X-WR-TIMEZONE:Europe/Vienna
BEGIN:VEVENT
SUMMARY:Praktische Textkompetenz | Die Kunst des Schreibens über Kunst
DTSTART;TZID=Europe/Vienna:20141125T170000
DTEND;TZID=Europe/Vienna:20141125T200000
DTSTAMP:20260423T114330Z
UID:cac71b3a1b479c90907f889501558e91@www.akbild.ac.at
CREATED:20220312T012809Z
DESCRIPTION:2. Termin\n \n |  02.12.2014\, 17.00 h – 20.00 h\n \n \n Ein
  zweiteiliger Workshop mit Erwin Uhrmann und Moussa Kone
LAST-MODIFIED:20240919T080614Z
URL:https://www.akbild.ac.at/de/universitaet/absolvent_innen/veranstaltung
 en/2014/praktische-textkompetenz-die-kunst-des-schreibens-ueber-kunst
END:VEVENT
BEGIN:VTIMEZONE
TZID:Europe/Vienna
X-LIC-LOCATION:Europe/Vienna
BEGIN:STANDARD
DTSTART:20141026T020000
TZNAME:CET
TZOFFSETFROM:+0200
TZOFFSETTO:+0100
END:STANDARD
END:VTIMEZONE
END:VCALENDAR
