BEGIN:VCALENDAR
VERSION:2.0
PRODID:-//Plone.org//NONSGML plone.app.event//EN
X-WR-TIMEZONE:Europe/Vienna
BEGIN:VEVENT
SUMMARY:Sozialversicherung und Steuern
DTSTART;TZID=Europe/Vienna:20140930T160000
DTEND;TZID=Europe/Vienna:20140930T190000
DTSTAMP:20260426T020256Z
UID:3d98fa5afdf7fe25d61826b3d024675a@www.akbild.ac.at
CREATED:20220312T012758Z
DESCRIPTION:Eine Informationsveranstaltung des Alumnivereins der Akademie 
 der \nbildenden Künste Wien  in Kooperation mit der IG BILDENDE KUNST.\n 
 \n Keine Anmeldung erforderlich.
LAST-MODIFIED:20240919T080614Z
URL:https://www.akbild.ac.at/de/universitaet/absolvent_innen/veranstaltung
 en/2014/sozialversicherung-und-steuern
END:VEVENT
BEGIN:VTIMEZONE
TZID:Europe/Vienna
X-LIC-LOCATION:Europe/Vienna
BEGIN:DAYLIGHT
DTSTART:20140330T030000
TZNAME:CEST
TZOFFSETFROM:+0100
TZOFFSETTO:+0200
END:DAYLIGHT
END:VTIMEZONE
END:VCALENDAR
