BEGIN:VCALENDAR
VERSION:2.0
PRODID:-//Plone.org//NONSGML plone.app.event//EN
X-WR-TIMEZONE:Europe/Vienna
BEGIN:VEVENT
SUMMARY:Künstler_innen Sozial Versichert | Was Sie schon immer über KSVF
  und SVA wissen wollten
DTSTART;TZID=Europe/Vienna:20151117T190000
DTSTAMP:20260424T093919Z
UID:b5ea0b9cd56592a16c35fdcc729b1f72@www.akbild.ac.at
CREATED:20220312T012930Z
DESCRIPTION:Sozialversicherungsangelegenheiten selbstständiger Künstler_
 innen\n \n Expert_innen informieren und beantworten Fragen
LAST-MODIFIED:20240919T080614Z
URL:https://www.akbild.ac.at/de/universitaet/absolvent_innen/veranstaltung
 en/2015/kuenstler_innen-sozial-versichert-was-sie-schon-immer-ueber-ksvf-u
 nd-sva-wissen-wollten
END:VEVENT
BEGIN:VTIMEZONE
TZID:Europe/Vienna
X-LIC-LOCATION:Europe/Vienna
BEGIN:STANDARD
DTSTART:20151025T020000
TZNAME:CET
TZOFFSETFROM:+0200
TZOFFSETTO:+0100
END:STANDARD
END:VTIMEZONE
END:VCALENDAR
