BEGIN:VCALENDAR
VERSION:2.0
PRODID:-//Plone.org//NONSGML plone.app.event//EN
X-WR-TIMEZONE:Europe/Vienna
BEGIN:VEVENT
SUMMARY:Online im Kunstraum | Lecture von Lorenz "eSeL" Seidler
DTSTART;TZID=Europe/Vienna:20151109T190000
DTSTAMP:20260424T082710Z
UID:0bef3e0bea20413c89d9d67c9dba0148@www.akbild.ac.at
CREATED:20220312T012927Z
LAST-MODIFIED:20240919T080614Z
URL:https://www.akbild.ac.at/de/universitaet/absolvent_innen/veranstaltung
 en/2015/online-im-kunstraum-lecture-von-lorenz-esel-seidler
END:VEVENT
BEGIN:VTIMEZONE
TZID:Europe/Vienna
X-LIC-LOCATION:Europe/Vienna
BEGIN:STANDARD
DTSTART:20151025T020000
TZNAME:CET
TZOFFSETFROM:+0200
TZOFFSETTO:+0100
END:STANDARD
END:VTIMEZONE
END:VCALENDAR
