BEGIN:VCALENDAR
VERSION:2.0
PRODID:-//Plone.org//NONSGML plone.app.event//EN
X-WR-TIMEZONE:Europe/Vienna
BEGIN:VEVENT
SUMMARY:Steuer heute\, Steuern morgen...
DTSTART;TZID=Europe/Vienna:20151126T160000
DTEND;TZID=Europe/Vienna:20151126T180000
DTSTAMP:20260423T181604Z
UID:96329aaa01cfe81743cc3b47cdba76da@www.akbild.ac.at
CREATED:20220312T012932Z
DESCRIPTION:Eine Veranstaltung in Kooperation mit der IG BILDENDE KUNST un
 d dem\n \n \n  WTZ OST
LAST-MODIFIED:20240919T080614Z
URL:https://www.akbild.ac.at/de/universitaet/absolvent_innen/veranstaltung
 en/2015/steuer-heute-steuern-morgen..
END:VEVENT
BEGIN:VTIMEZONE
TZID:Europe/Vienna
X-LIC-LOCATION:Europe/Vienna
BEGIN:STANDARD
DTSTART:20151025T020000
TZNAME:CET
TZOFFSETFROM:+0200
TZOFFSETTO:+0100
END:STANDARD
END:VTIMEZONE
END:VCALENDAR
