BEGIN:VCALENDAR
VERSION:2.0
PRODID:-//Plone.org//NONSGML plone.app.event//EN
X-WR-TIMEZONE:Europe/Vienna
BEGIN:VEVENT
SUMMARY:In Frauenhand? Museen\, Macht und Markt.
DTSTART;TZID=Europe/Vienna:20160502T190000
DTSTAMP:20260425T104451Z
UID:b5d6d7d4cebfc001247b84dabf2ed3a7@www.akbild.ac.at
CREATED:20220312T012956Z
DESCRIPTION:Ein Gespräch in Kooperation mit dem Alumniverein der Akademie
  der bildenden Künste Wien und\n \n  "\n \n wir zeigen\n \n  "\n \n im Ra
 hmen der Ausstellung\n \n  Hubert Lobnig. Schlafende Hunde
LAST-MODIFIED:20240919T080611Z
URL:https://www.akbild.ac.at/de/universitaet/absolvent_innen/veranstaltung
 en/2016/in-frauenhand
END:VEVENT
BEGIN:VTIMEZONE
TZID:Europe/Vienna
X-LIC-LOCATION:Europe/Vienna
BEGIN:DAYLIGHT
DTSTART:20160327T030000
TZNAME:CEST
TZOFFSETFROM:+0100
TZOFFSETTO:+0200
END:DAYLIGHT
END:VTIMEZONE
END:VCALENDAR
