BEGIN:VCALENDAR
VERSION:2.0
PRODID:-//Plone.org//NONSGML plone.app.event//EN
X-WR-TIMEZONE:Europe/Vienna
BEGIN:VEVENT
SUMMARY:Pension am Konto - (k)eine Kunst?
DTSTART;TZID=Europe/Vienna:20161123T100000
DTEND;TZID=Europe/Vienna:20161123T120000
DTSTAMP:20260423T212120Z
UID:5c20edf5a246e2ee45b8aacdc56f0d1d@www.akbild.ac.at
CREATED:20220312T013011Z
DESCRIPTION:Eine Veranstaltung in Kooperation zwischen dem Alumniverein de
 r Akademie der bildenden Künste Wien\, dem Dachverband der Filmschaffende
 n und der\n \n  IG BILDENDE KUNST\n \n .\n \n \n Referent: MMag. Reinhard 
 Seidenberger (\n \n  SVA\n \n )\n \n Moderation: Dr.in Maria Anna Kollmann
  (\n \n  Dachverband der Filmschaffenden\n \n )
LAST-MODIFIED:20240919T080611Z
URL:https://www.akbild.ac.at/de/universitaet/absolvent_innen/veranstaltung
 en/2016/pension-am-konto-k-eine-kunst
END:VEVENT
BEGIN:VTIMEZONE
TZID:Europe/Vienna
X-LIC-LOCATION:Europe/Vienna
BEGIN:STANDARD
DTSTART:20161030T020000
TZNAME:CET
TZOFFSETFROM:+0200
TZOFFSETTO:+0100
END:STANDARD
END:VTIMEZONE
END:VCALENDAR
