BEGIN:VCALENDAR
VERSION:2.0
PRODID:-//Plone.org//NONSGML plone.app.event//EN
X-WR-TIMEZONE:Europe/Vienna
BEGIN:VEVENT
SUMMARY:Praktische Textkompetenz | Die Kunst des Schreibens über Kunst
DTSTART;TZID=Europe/Vienna:20160429T090000
DTEND;TZID=Europe/Vienna:20160429T130000
DTSTAMP:20260423T101117Z
UID:bc45e54f9e7695b7678b7eed7cc4d4e2@www.akbild.ac.at
CREATED:20220312T013000Z
DESCRIPTION:2. Termin\n \n | 13.05.2016\, 9.00 h – 17.00 h\n \n \n Ein z
 weiteiliger Workshop mit Erwin Uhrmann und Moussa Kone
LAST-MODIFIED:20240919T080611Z
URL:https://www.akbild.ac.at/de/universitaet/absolvent_innen/veranstaltung
 en/2016/praktische-textkompetenz-die-kunst-des-schreibens-ueber-kunst
END:VEVENT
BEGIN:VTIMEZONE
TZID:Europe/Vienna
X-LIC-LOCATION:Europe/Vienna
BEGIN:DAYLIGHT
DTSTART:20160327T030000
TZNAME:CEST
TZOFFSETFROM:+0100
TZOFFSETTO:+0200
END:DAYLIGHT
END:VTIMEZONE
END:VCALENDAR
