BEGIN:VCALENDAR
VERSION:2.0
PRODID:-//Plone.org//NONSGML plone.app.event//EN
X-WR-TIMEZONE:Europe/Vienna
BEGIN:VEVENT
SUMMARY:Roger Connah: The School of Exile Timo Penttilä - for and against
  architecture theory
DTSTART;TZID=Europe/Vienna:20160503T190000
DTSTAMP:20260424T054718Z
UID:155a31b2b4de6bd4200946d340dfd05b@www.akbild.ac.at
CREATED:20220312T013004Z
DESCRIPTION:Eine Veranstaltung der Timo Penttilä Society in Kooperation 
  mit  dem Alumniverein und dem Institut für Kunst und Architektur der Ak
 ademie der bildenden Künste Wien.
LAST-MODIFIED:20240919T080611Z
URL:https://www.akbild.ac.at/de/universitaet/absolvent_innen/veranstaltung
 en/2016/the-school-of-exile-timo-penttilae-for-and-against-architecture-th
 eory-von-roger-connah
END:VEVENT
BEGIN:VTIMEZONE
TZID:Europe/Vienna
X-LIC-LOCATION:Europe/Vienna
BEGIN:DAYLIGHT
DTSTART:20160327T030000
TZNAME:CEST
TZOFFSETFROM:+0100
TZOFFSETTO:+0200
END:DAYLIGHT
END:VTIMEZONE
END:VCALENDAR
