BEGIN:VCALENDAR
VERSION:2.0
PRODID:-//Plone.org//NONSGML plone.app.event//EN
X-WR-TIMEZONE:Europe/Vienna
BEGIN:VEVENT
SUMMARY:Seminar „Präsentation und Öffentlichkeitsarbeit“ mit Ingebur
 g Wurzer
DTSTART;TZID=Europe/Vienna:20171012T113000
DTEND;TZID=Europe/Vienna:20171012T143000
DTSTAMP:20260426T043102Z
UID:7a6e96c2b559481c00b105c4f1daf5a4@www.akbild.ac.at
CREATED:20220312T013121Z
DESCRIPTION:Weitere Termine (jeweils donnerstags\, 11.30 bis 14.30 h):\n \
 n 09. November 2017\n \n 23. November 2017\n \n 14. Dezember 2017\n \n 18.
  Jänner 2018
LAST-MODIFIED:20240919T080610Z
URL:https://www.akbild.ac.at/de/universitaet/absolvent_innen/veranstaltung
 en/2017/seminar-201epraesentation-und-oeffentlichkeitsarbeit201c-mit-ingeb
 urg-wurzer
END:VEVENT
BEGIN:VTIMEZONE
TZID:Europe/Vienna
X-LIC-LOCATION:Europe/Vienna
BEGIN:DAYLIGHT
DTSTART:20170326T030000
TZNAME:CEST
TZOFFSETFROM:+0100
TZOFFSETTO:+0200
END:DAYLIGHT
END:VTIMEZONE
END:VCALENDAR
