BEGIN:VCALENDAR
VERSION:2.0
PRODID:-//Plone.org//NONSGML plone.app.event//EN
X-WR-TIMEZONE:Europe/Vienna
BEGIN:VEVENT
SUMMARY:Seminar „Präsentation und Öffentlichkeitsarbeit“ mit Ingebur
 g Wurzer
DTSTART;TZID=Europe/Vienna:20191017T113000
DTEND;TZID=Europe/Vienna:20191017T143000
DTSTAMP:20260426T043126Z
UID:a74a8311a94c0185b9bdd7e318a1cbdc@www.akbild.ac.at
CREATED:20220312T013158Z
DESCRIPTION:Weitere Termine\n \n (jeweils donnerstags\, 11.30 bis 14.30 h)
 :\n \n 07. + 28. November 2019\n \n 05. Dezember 2019\n \n 16. Jänner 202
 0\n\n\n Wir möchten im WS 19|20 wieder fünf Mitgliedern des Alumniverein
 s die  Teilnahme am Seminar "Präsentation und Öffentlichkeitsarbeit"\, d
 as von  Ingeburg Wurzer gehalten wird\, anbieten.
LAST-MODIFIED:20240919T080610Z
URL:https://www.akbild.ac.at/de/universitaet/absolvent_innen/veranstaltung
 en/2019/seminar-201epraesentation-und-oeffentlichkeitsarbeit201c-mit-ingeb
 urg-wurzer
END:VEVENT
BEGIN:VTIMEZONE
TZID:Europe/Vienna
X-LIC-LOCATION:Europe/Vienna
BEGIN:DAYLIGHT
DTSTART:20190331T030000
TZNAME:CEST
TZOFFSETFROM:+0100
TZOFFSETTO:+0200
END:DAYLIGHT
END:VTIMEZONE
END:VCALENDAR
