BEGIN:VCALENDAR
VERSION:2.0
PRODID:-//Plone.org//NONSGML plone.app.event//EN
X-WR-TIMEZONE:Europe/Vienna
BEGIN:VEVENT
SUMMARY:„Präsentation und Öffentlichkeitsarbeit“ mit Ingeburg Wurzer
DTSTART;TZID=Europe/Vienna:20201022T113000
DTSTAMP:20260424T044011Z
UID:226cc2581eb59f576f0e6c269c1d7aba@www.akbild.ac.at
CREATED:20220312T013212Z
DESCRIPTION:In der sehr praxisorientierten Lehrveranstaltung\, die sich ü
 ber das  Winter- und Sommersemester erstreckt\, sollen mögliche Modelle u
 nd  Strategien erarbeitet werden\, die ein künstlerisches Werk\, Projekt\
 ,  Vorhaben etc. einer entsprechenden Öffentlichkeit optimal und  zielfü
 hrend vermitteln können.
LAST-MODIFIED:20240919T080610Z
URL:https://www.akbild.ac.at/de/universitaet/absolvent_innen/veranstaltung
 en/2020/201epraesentation-und-oeffentlichkeitsarbeit201c-mit-ingeburg-wurz
 er
END:VEVENT
BEGIN:VTIMEZONE
TZID:Europe/Vienna
X-LIC-LOCATION:Europe/Vienna
BEGIN:DAYLIGHT
DTSTART:20200329T030000
TZNAME:CEST
TZOFFSETFROM:+0100
TZOFFSETTO:+0200
END:DAYLIGHT
END:VTIMEZONE
END:VCALENDAR
