BEGIN:VCALENDAR
VERSION:2.0
PRODID:-//Plone.org//NONSGML plone.app.event//EN
X-WR-TIMEZONE:Europe/Vienna
BEGIN:VEVENT
SUMMARY:SVS\, was geht?
DTSTART;TZID=Europe/Vienna:20201118T140000
DTEND;TZID=Europe/Vienna:20201118T160000
DTSTAMP:20260422T021259Z
UID:b3d7062ca8890d8bf91a37277ad027ef@www.akbild.ac.at
CREATED:20220312T013213Z
DESCRIPTION:Fokus: Sozialversicherung für Künstler_innen\, Corona-Überb
 rückungsfinanzierung\n  \n  Eine Infoveranstaltung zur SVS - Sozialversic
 herung der Selbständigen\n \n\n\n \n  Online-Veranstaltung via Zoom\n  \n
  \n \n  https://us02web.zoom.us/j/84057699713?pwd=NWkwdFJvVnB4eHdoaXBXQzh2
 ZkNNdz09\n \n \n Meeting-ID: 840 5769 9713\n \n Kenncode: 863860
LAST-MODIFIED:20240919T080610Z
URL:https://www.akbild.ac.at/de/universitaet/absolvent_innen/veranstaltung
 en/2020/svs-was-geht
END:VEVENT
BEGIN:VTIMEZONE
TZID:Europe/Vienna
X-LIC-LOCATION:Europe/Vienna
BEGIN:STANDARD
DTSTART:20201025T020000
TZNAME:CET
TZOFFSETFROM:+0200
TZOFFSETTO:+0100
END:STANDARD
END:VTIMEZONE
END:VCALENDAR
