BEGIN:VCALENDAR
VERSION:2.0
PRODID:-//Plone.org//NONSGML plone.app.event//EN
X-WR-TIMEZONE:Europe/Vienna
BEGIN:VEVENT
SUMMARY:Calls for Papers – Gestaltung und Kalkulation von Projektanträg
 en
DTSTART;VALUE=DATE:20210215
DTEND;VALUE=DATE:20210219
DTSTAMP:20260424T145034Z
UID:b79a46980aed0520a7c21ab7edd468f9@www.akbild.ac.at
CREATED:20220312T013216Z
DESCRIPTION:Dreiteiliger Workshop mit Lotte Lyon am 15. 02.\, 17. 02. und 
 18. 02.2021 jeweils von 13:00 – 15:30 h
LAST-MODIFIED:20240919T080610Z
URL:https://www.akbild.ac.at/de/universitaet/absolvent_innen/veranstaltung
 en/2021/calls-for-papers-2013-gestaltung-und-kalkulation-von-projektantrae
 gen
END:VEVENT
END:VCALENDAR
