BEGIN:VCALENDAR
VERSION:2.0
PRODID:-//Plone.org//NONSGML plone.app.event//EN
X-WR-TIMEZONE:Europe/Vienna
BEGIN:VEVENT
SUMMARY:Mäzenatentum - persönliche Eitelkeit oder notwendige Kunstförde
 rung?
DTSTART;TZID=Europe/Vienna:20211014T193000
DTSTAMP:20260422T222711Z
UID:db01874dee18924a6c8639947a532fce@www.akbild.ac.at
CREATED:20220312T013223Z
DESCRIPTION:Podiumsgespräch in Kooperation mit dem Alumniverein der Akade
 mie der bildenden Künste Wien im Rahmen der Ausstellung\n \n \n \n  Katri
 n Plavčak.Alien Nation.
LAST-MODIFIED:20240919T080610Z
URL:https://www.akbild.ac.at/de/universitaet/absolvent_innen/veranstaltung
 en/2021/maezenatentum-persoenliche-eitelkeit-oder-notwendige-kunstfoerderu
 ng
END:VEVENT
BEGIN:VTIMEZONE
TZID:Europe/Vienna
X-LIC-LOCATION:Europe/Vienna
BEGIN:DAYLIGHT
DTSTART:20210328T030000
TZNAME:CEST
TZOFFSETFROM:+0100
TZOFFSETTO:+0200
END:DAYLIGHT
END:VTIMEZONE
END:VCALENDAR
