BEGIN:VCALENDAR
VERSION:2.0
PRODID:-//Plone.org//NONSGML plone.app.event//EN
X-WR-TIMEZONE:Europe/Vienna
BEGIN:VEVENT
SUMMARY:Führung für Studierende/Absolvent_innen durch die Ausstellungen 
 [em]Sleepy Politics[/em] & [em]having a good time[/em]
DTSTART;TZID=Europe/Vienna:20230504T150000
DTSTAMP:20260425T111306Z
UID:f076590cb1274d0bbee1b137cf0629de@www.akbild.ac.at
CREATED:20230425T125605Z
DESCRIPTION:mit Vizerektorin Ingeborg Erhart
LAST-MODIFIED:20240919T080607Z
URL:https://www.akbild.ac.at/de/universitaet/absolvent_innen/veranstaltung
 en/2023/fuehrung-durch-die-ausstellungen-em-sleepy-politics-em-em-having-a
 -good-time-em-mit-vizerektorin-ingeborg-erhart
END:VEVENT
BEGIN:VTIMEZONE
TZID:Europe/Vienna
X-LIC-LOCATION:Europe/Vienna
BEGIN:DAYLIGHT
DTSTART:20230326T030000
TZNAME:CEST
TZOFFSETFROM:+0100
TZOFFSETTO:+0200
END:DAYLIGHT
END:VTIMEZONE
END:VCALENDAR
