BEGIN:VCALENDAR
VERSION:2.0
PRODID:-//Plone.org//NONSGML plone.app.event//EN
X-WR-TIMEZONE:Europe/Vienna
BEGIN:VEVENT
SUMMARY:Künstler_innensozialversicherungsfonds: This is what You came for
DTSTART;TZID=Europe/Vienna:20241001T100000
DTEND;TZID=Europe/Vienna:20241001T113000
DTSTAMP:20260423T051207Z
UID:30c0d472e0eb4a48be132ba6b9150f44@www.akbild.ac.at
CREATED:20240829T135924Z
DESCRIPTION:Infoveranstaltung für Künstler_innen im Rahmen der Reihe Sur
 vival Training für Künstler_innen
LAST-MODIFIED:20240919T080607Z
URL:https://www.akbild.ac.at/de/universitaet/absolvent_innen/veranstaltung
 en/2024/kuenstler_innensozialversicherungsfonds-this-is-what-you-came-for
END:VEVENT
BEGIN:VTIMEZONE
TZID:Europe/Vienna
X-LIC-LOCATION:Europe/Vienna
BEGIN:DAYLIGHT
DTSTART:20240331T030000
TZNAME:CEST
TZOFFSETFROM:+0100
TZOFFSETTO:+0200
END:DAYLIGHT
END:VTIMEZONE
END:VCALENDAR
