BEGIN:VCALENDAR
VERSION:2.0
PRODID:-//Plone.org//NONSGML plone.app.event//EN
X-WR-TIMEZONE:Europe/Vienna
BEGIN:VEVENT
SUMMARY:Forum für Fragen zur Projektplanung\, Produktion\, Kalkulation un
 d Präsentation von Kunstprojekten
DTSTART;TZID=Europe/Vienna:20240311T143000
DTEND;TZID=Europe/Vienna:20240311T163000
DTSTAMP:20260423T045958Z
UID:ebaed4241b9f4d7e80fd1c5700891a88@www.akbild.ac.at
CATEGORIES:Vorträge / Veranstaltungen
CREATED:20240215T125741Z
DESCRIPTION:mit Sabine Dortschy und Claudia Kaiser.
LAST-MODIFIED:20240919T080607Z
URL:https://www.akbild.ac.at/de/universitaet/absolvent_innen/veranstaltung
 en/2024/new-event
END:VEVENT
BEGIN:VTIMEZONE
TZID:Europe/Vienna
X-LIC-LOCATION:Europe/Vienna
BEGIN:STANDARD
DTSTART:20231029T020000
TZNAME:CET
TZOFFSETFROM:+0200
TZOFFSETTO:+0100
END:STANDARD
END:VTIMEZONE
END:VCALENDAR
