BEGIN:VCALENDAR
VERSION:2.0
PRODID:-//Plone.org//NONSGML plone.app.event//EN
X-WR-TIMEZONE:Europe/Vienna
BEGIN:VEVENT
SUMMARY:Eröffnung: Katja Gürtler – Playboys
DTSTART;TZID=Europe/Vienna:20230329T180000
DTSTAMP:20260423T031232Z
UID:c21ddc2adc49482fa3c6d5ec26cbc422@www.akbild.ac.at
CATEGORIES:Ausstellungen
CREATED:20230303T161051Z
DESCRIPTION:Eröffnung einer Ausstellung zu Träumen\, Hoffnungen und Utop
 ien mit Katja Gürtler im Rahmen der Reihe Wer A… sagt der A…kademiebi
 bliothek
LAST-MODIFIED:20240919T080557Z
URL:https://www.akbild.ac.at/de/universitaet/universitaetsbibliothek/veran
 staltungen-1/ausstellungen-vermittlung/2023/katja-guertler-playboys/new-ev
 ent
END:VEVENT
BEGIN:VTIMEZONE
TZID:Europe/Vienna
X-LIC-LOCATION:Europe/Vienna
BEGIN:DAYLIGHT
DTSTART:20230326T030000
TZNAME:CEST
TZOFFSETFROM:+0100
TZOFFSETTO:+0200
END:DAYLIGHT
END:VTIMEZONE
END:VCALENDAR
