BEGIN:VCALENDAR
VERSION:2.0
PRODID:-//Plone.org//NONSGML plone.app.event//EN
X-WR-TIMEZONE:Europe/Vienna
BEGIN:VEVENT
SUMMARY:Exkursion in die Glyptothek: On Sediments and Occidents
DTSTART;TZID=Europe/Vienna:20230627T160000
DTSTAMP:20260423T031232Z
UID:7b1cf89dd253425c933184d2af282449@www.akbild.ac.at
CATEGORIES:Ausstellungen
CREATED:20230531T173143Z
DESCRIPTION:Ein Besuch der Sammlung der Gipsabgüsse und ein Gespräch mit
  Andrea Domanig und Johannes Rips im Rahmen der Ausstellung On Sediments a
 nd Occidents. Eine Veranstaltung von A…kademiebibliothek und Glyptothek.
LAST-MODIFIED:20240919T080557Z
URL:https://www.akbild.ac.at/de/universitaet/universitaetsbibliothek/veran
 staltungen-1/ausstellungen-vermittlung/2023/on-sediments-and-occidents/exk
 ursion-in-die-glyptothek-on-sediments-and-occidents
END:VEVENT
BEGIN:VTIMEZONE
TZID:Europe/Vienna
X-LIC-LOCATION:Europe/Vienna
BEGIN:DAYLIGHT
DTSTART:20230326T030000
TZNAME:CEST
TZOFFSETFROM:+0100
TZOFFSETTO:+0200
END:DAYLIGHT
END:VTIMEZONE
END:VCALENDAR
