BEGIN:VCALENDAR
VERSION:2.0
PRODID:-//Plone.org//NONSGML plone.app.event//EN
X-WR-TIMEZONE:Europe/Vienna
BEGIN:VEVENT
SUMMARY:Finissage: Archäologie des Flüsterns
DTSTART;TZID=Europe/Vienna:20221111T150000
DTSTAMP:20260419T115317Z
UID:f2ee6e302b544a7c889e1e5e3f5a9f93@www.akbild.ac.at
CATEGORIES:Ausstellungen
CREATED:20221006T101307Z
DESCRIPTION:Finissage der Ausstellung Archäologie des Flüsterns und Work
 shops mit Ziliia Kanchurina\, André Rachadel\, Daniel Sea und Seul A Shin
  im Rahmen der Reihe Wer A... sagt der A...kademiebibliothek.
LAST-MODIFIED:20240919T080601Z
URL:https://www.akbild.ac.at/de/universitaet/universitaetsbibliothek/veran
 staltungen-1/ausstellungen-vermittlung/new-folder/archaeologie-des-flueste
 rns/finissage-archaeologie-des-fluesterns
END:VEVENT
BEGIN:VTIMEZONE
TZID:Europe/Vienna
X-LIC-LOCATION:Europe/Vienna
BEGIN:STANDARD
DTSTART:20221030T020000
TZNAME:CET
TZOFFSETFROM:+0200
TZOFFSETTO:+0100
END:STANDARD
END:VTIMEZONE
END:VCALENDAR
