BEGIN:VCALENDAR
VERSION:2.0
PRODID:-//Plone.org//NONSGML plone.app.event//EN
X-WR-TIMEZONE:Europe/Vienna
BEGIN:VEVENT
SUMMARY:Productive Limits. Architects gone exploratory
DTSTART;TZID=Europe/Vienna:20120614T190000
DTSTAMP:20260419T150444Z
UID:01b0210f41cb526be7e6025887dbd40d@www.akbild.ac.at
CATEGORIES:Vorträge / Veranstaltungen
CREATED:20220312T153310Z
DESCRIPTION:Buchpräsentation veranstaltet von der Universitätsbibliothek
 .
LAST-MODIFIED:20240919T080557Z
URL:https://www.akbild.ac.at/de/universitaet/universitaetsbibliothek/veran
 staltungen-1/vortraege-events/2012/akbild_event.2012-06-12.3595529715
END:VEVENT
BEGIN:VTIMEZONE
TZID:Europe/Vienna
X-LIC-LOCATION:Europe/Vienna
BEGIN:DAYLIGHT
DTSTART:20120325T030000
TZNAME:CEST
TZOFFSETFROM:+0100
TZOFFSETTO:+0200
END:DAYLIGHT
END:VTIMEZONE
END:VCALENDAR
