BEGIN:VCALENDAR
VERSION:2.0
PRODID:-//Plone.org//NONSGML plone.app.event//EN
X-WR-TIMEZONE:Europe/Vienna
BEGIN:VEVENT
SUMMARY:Symposion zum 200. Geburtstag von Theophil Hansen
DTSTART;VALUE=DATE:20130603
DTEND;VALUE=DATE:20130606
DTSTAMP:20260424T084638Z
UID:80ca786be71dc6614e3c8bf262938160@www.akbild.ac.at
CATEGORIES:Vorträge / Veranstaltungen
CREATED:20220312T153324Z
DESCRIPTION:Eine Veranstaltung der Universitätsbibliothek der Akademie de
 r bildenden Künste Wien.
LAST-MODIFIED:20240919T080557Z
URL:https://www.akbild.ac.at/de/universitaet/universitaetsbibliothek/veran
 staltungen-1/vortraege-events/2013/akbild_event.2013-03-26.0415701110
END:VEVENT
END:VCALENDAR
