BEGIN:VCALENDAR
VERSION:2.0
PRODID:-//Plone.org//NONSGML plone.app.event//EN
X-WR-TIMEZONE:Europe/Vienna
BEGIN:VEVENT
SUMMARY:Let's show. Kurzfilme zusammengestellt von Sasha Pirker
DTSTART;TZID=Europe/Vienna:20140109T180000
DTSTAMP:20260424T172221Z
UID:ffee63b5aba95da2bc72db6804282010@www.akbild.ac.at
CATEGORIES:Vorträge / Veranstaltungen
CREATED:20220312T153329Z
DESCRIPTION:Im Rahmen der Veranstaltungsreihe "Donnerstags in der Biblioth
 ek" der Universitätsbibliothek der Akademie der bildenden Künste Wien.
LAST-MODIFIED:20240919T080554Z
URL:https://www.akbild.ac.at/de/universitaet/universitaetsbibliothek/veran
 staltungen-1/vortraege-events/2014/akbild_event.2013-10-25.8081987888
END:VEVENT
BEGIN:VTIMEZONE
TZID:Europe/Vienna
X-LIC-LOCATION:Europe/Vienna
BEGIN:STANDARD
DTSTART:20131027T020000
TZNAME:CET
TZOFFSETFROM:+0200
TZOFFSETTO:+0100
END:STANDARD
END:VTIMEZONE
END:VCALENDAR
