BEGIN:VCALENDAR
VERSION:2.0
PRODID:-//Plone.org//NONSGML plone.app.event//EN
X-WR-TIMEZONE:Europe/Vienna
BEGIN:VEVENT
SUMMARY:Die Titanic-Humorflüchtlinge lesen aus Treibgut und Angeschwemmte
 m
DTSTART;TZID=Europe/Vienna:20160913T190000
DTSTAMP:20260420T120430Z
UID:6a8f1ff104b4a600a91e0951a3adebd9@www.akbild.ac.at
CATEGORIES:Vorträge / Veranstaltungen
CREATED:20220312T153449Z
DESCRIPTION:Eine Lesung des Magazins „Titanic“ in Kooperation mit der 
 Universitätsbibliothek der Akademie der bildenden Künste Wien.
LAST-MODIFIED:20240919T080554Z
URL:https://www.akbild.ac.at/de/universitaet/universitaetsbibliothek/veran
 staltungen-1/vortraege-events/2016/die-titanic-humorfluechtlinge-lesen-aus
 -treibgut-und-angeschwemmtem
END:VEVENT
BEGIN:VTIMEZONE
TZID:Europe/Vienna
X-LIC-LOCATION:Europe/Vienna
BEGIN:DAYLIGHT
DTSTART:20160327T030000
TZNAME:CEST
TZOFFSETFROM:+0100
TZOFFSETTO:+0200
END:DAYLIGHT
END:VTIMEZONE
END:VCALENDAR
