BEGIN:VCALENDAR
VERSION:2.0
PRODID:-//Plone.org//NONSGML plone.app.event//EN
X-WR-TIMEZONE:Europe/Vienna
BEGIN:VEVENT
SUMMARY:Himmel und Hölle. Lesung und Textdiskussion mit Friedrich Hahn un
 d Gabriele Kögl
DTSTART;TZID=Europe/Vienna:20161018T190000
DTSTAMP:20260425T154307Z
UID:a0a7ded49ecd9e8f4478671e13c046cb@www.akbild.ac.at
CATEGORIES:Vorträge / Veranstaltungen
CREATED:20220312T153456Z
DESCRIPTION:Autor_innenlesung mit Friedrich Hahn und Gabriele Kögl
LAST-MODIFIED:20240919T080554Z
URL:https://www.akbild.ac.at/de/universitaet/universitaetsbibliothek/veran
 staltungen-1/vortraege-events/2016/himmel-und-hoelle.-lesung-und-textdisku
 ssion-mit-friedrich-hahn-und-gabriele-koegl
END:VEVENT
BEGIN:VTIMEZONE
TZID:Europe/Vienna
X-LIC-LOCATION:Europe/Vienna
BEGIN:DAYLIGHT
DTSTART:20160327T030000
TZNAME:CEST
TZOFFSETFROM:+0100
TZOFFSETTO:+0200
END:DAYLIGHT
END:VTIMEZONE
END:VCALENDAR
