BEGIN:VCALENDAR
VERSION:2.0
PRODID:-//Plone.org//NONSGML plone.app.event//EN
X-WR-TIMEZONE:Europe/Vienna
BEGIN:VEVENT
SUMMARY:It's Graphic! Eröffnung des Sonderbestandes Comic und Graphic Nov
 el mit Artist Talk und Screening
DTSTART;TZID=Europe/Vienna:20161201T190000
DTSTAMP:20260425T110758Z
UID:67fe036004e54022b67490dbe99dc1e4@www.akbild.ac.at
CATEGORIES:Vorträge / Veranstaltungen
CREATED:20220312T153502Z
DESCRIPTION:Eröffnung des Sonderbestandes\n \n  Comic und Graphic Novel
LAST-MODIFIED:20240919T080554Z
URL:https://www.akbild.ac.at/de/universitaet/universitaetsbibliothek/veran
 staltungen-1/vortraege-events/2016/its-graphic-eroeffnung-des-sonderbestan
 des-comic-und-graphic-novel-mit-artist-talk-und-screening-2
END:VEVENT
BEGIN:VTIMEZONE
TZID:Europe/Vienna
X-LIC-LOCATION:Europe/Vienna
BEGIN:STANDARD
DTSTART:20161030T020000
TZNAME:CET
TZOFFSETFROM:+0200
TZOFFSETTO:+0100
END:STANDARD
END:VTIMEZONE
END:VCALENDAR
