BEGIN:VCALENDAR
VERSION:2.0
PRODID:-//Plone.org//NONSGML plone.app.event//EN
X-WR-TIMEZONE:Europe/Vienna
BEGIN:VEVENT
SUMMARY:Die 67 enttäuschendsten Sexfilme aller Zeiten
DTSTART;TZID=Europe/Vienna:20170613T190000
DTSTAMP:20260425T000020Z
UID:76a6adb643dc1e7522affa25de4980c3@www.akbild.ac.at
CATEGORIES:Vorträge / Veranstaltungen
CREATED:20220312T153634Z
DESCRIPTION:Peter Waldeck liest aus seinem Roman\n \n  Die 67 enttäuschen
 dsten Sexfilme aller Zeiten\,\n \n Milena\, Wien 2017.
LAST-MODIFIED:20240919T080551Z
URL:https://www.akbild.ac.at/de/universitaet/universitaetsbibliothek/veran
 staltungen-1/vortraege-events/2017/die-67-enttaeuschendsten-sexfilme-aller
 -zeiten
END:VEVENT
BEGIN:VTIMEZONE
TZID:Europe/Vienna
X-LIC-LOCATION:Europe/Vienna
BEGIN:DAYLIGHT
DTSTART:20170326T030000
TZNAME:CEST
TZOFFSETFROM:+0100
TZOFFSETTO:+0200
END:DAYLIGHT
END:VTIMEZONE
END:VCALENDAR
