BEGIN:VCALENDAR
VERSION:2.0
PRODID:-//Plone.org//NONSGML plone.app.event//EN
X-WR-TIMEZONE:Europe/Vienna
BEGIN:VEVENT
SUMMARY:Farben\, Figuren\, erzählte Porträts. Lesung und Autorinnengespr
 äch
DTSTART;TZID=Europe/Vienna:20170222T190000
DTSTAMP:20260426T021602Z
UID:a8df181cd381c69221ac010212688b74@www.akbild.ac.at
CATEGORIES:Vorträge / Veranstaltungen
CREATED:20220312T153606Z
DESCRIPTION:Eine Veranstaltung der GAV Grazer Autorinnen/Autorenversammlun
 g
LAST-MODIFIED:20240919T080551Z
URL:https://www.akbild.ac.at/de/universitaet/universitaetsbibliothek/veran
 staltungen-1/vortraege-events/2017/farben-figuren-erzaehlte-portraets.-les
 ung-und-autorinnengespraech-1
END:VEVENT
BEGIN:VTIMEZONE
TZID:Europe/Vienna
X-LIC-LOCATION:Europe/Vienna
BEGIN:STANDARD
DTSTART:20161030T020000
TZNAME:CET
TZOFFSETFROM:+0200
TZOFFSETTO:+0100
END:STANDARD
END:VTIMEZONE
END:VCALENDAR
