BEGIN:VCALENDAR
VERSION:2.0
PRODID:-//Plone.org//NONSGML plone.app.event//EN
X-WR-TIMEZONE:Europe/Vienna
BEGIN:VEVENT
SUMMARY:Kopfzecke. Lesung mit Iris Blauensteiner
DTSTART;TZID=Europe/Vienna:20170126T190000
DTSTAMP:20260419T162452Z
UID:7190d35284708f54a4a70b7a184124ce@www.akbild.ac.at
CATEGORIES:Vorträge / Veranstaltungen
CREATED:20220312T153527Z
DESCRIPTION:Im Rahmen der Veranstaltungsreihe\n \n  Donnerstags in der Bib
 liothek
LAST-MODIFIED:20240919T080551Z
URL:https://www.akbild.ac.at/de/universitaet/universitaetsbibliothek/veran
 staltungen-1/vortraege-events/2017/open-context-i-geviert.-ausstellung-von
 -danielle-pamp-emilia-sundqvist-ahoo-maher-und-wilhelm-binder
END:VEVENT
BEGIN:VTIMEZONE
TZID:Europe/Vienna
X-LIC-LOCATION:Europe/Vienna
BEGIN:STANDARD
DTSTART:20161030T020000
TZNAME:CET
TZOFFSETFROM:+0200
TZOFFSETTO:+0100
END:STANDARD
END:VTIMEZONE
END:VCALENDAR
