BEGIN:VCALENDAR
VERSION:2.0
PRODID:-//Plone.org//NONSGML plone.app.event//EN
X-WR-TIMEZONE:Europe/Vienna
BEGIN:VEVENT
SUMMARY:Lydia Haider liest
DTSTART;TZID=Europe/Vienna:20181113T190000
DTSTAMP:20260426T030629Z
UID:debaf9fbca8f67bc07a7768646babec3@www.akbild.ac.at
CATEGORIES:Vorträge / Veranstaltungen
CREATED:20220312T153947Z
DESCRIPTION:Buchpräsentation mit Lydia Haider
LAST-MODIFIED:20240919T080551Z
URL:https://www.akbild.ac.at/de/universitaet/universitaetsbibliothek/veran
 staltungen-1/vortraege-events/2018/lydia-haider-liest
END:VEVENT
BEGIN:VTIMEZONE
TZID:Europe/Vienna
X-LIC-LOCATION:Europe/Vienna
BEGIN:STANDARD
DTSTART:20181028T020000
TZNAME:CET
TZOFFSETFROM:+0200
TZOFFSETTO:+0100
END:STANDARD
END:VTIMEZONE
END:VCALENDAR
