BEGIN:VCALENDAR
VERSION:2.0
PRODID:-//Plone.org//NONSGML plone.app.event//EN
X-WR-TIMEZONE:Europe/Vienna
BEGIN:VEVENT
SUMMARY:Kulturpolitik der Aufklärung. Wenzel Anton von Kaunitz-Rietberg (
 1711–1794) und die Künste
DTSTART;TZID=Europe/Vienna:20220421T180000
DTSTAMP:20260424T185917Z
UID:a6ce3d28bfe941e6b543cfa3a3392406@www.akbild.ac.at
CATEGORIES:Vorträge / Veranstaltungen
CREATED:20220404T161932Z
DESCRIPTION:Eine Buchpräsentation mit Gernot Mayer\, Max Kunze und Monika
  Knofler im Rahmen der Veranstaltungsreihe Wer A… sagt der A…kademiebi
 bliothek
LAST-MODIFIED:20240919T080544Z
URL:https://www.akbild.ac.at/de/universitaet/universitaetsbibliothek/veran
 staltungen-1/vortraege-events/2022/kulturpolitik-der-aufklaerung-wenzel-an
 ton-von-kaunitz-rietberg-1711-1794-und-die-kuenste
END:VEVENT
BEGIN:VTIMEZONE
TZID:Europe/Vienna
X-LIC-LOCATION:Europe/Vienna
BEGIN:DAYLIGHT
DTSTART:20220327T030000
TZNAME:CEST
TZOFFSETFROM:+0100
TZOFFSETTO:+0200
END:DAYLIGHT
END:VTIMEZONE
END:VCALENDAR
