BEGIN:VCALENDAR
VERSION:2.0
PRODID:-//Plone.org//NONSGML plone.app.event//EN
X-WR-TIMEZONE:Europe/Vienna
BEGIN:VEVENT
SUMMARY:Kunst! Forschen
DTSTART;TZID=Europe/Vienna:20221207T180000
DTSTAMP:20260419T162433Z
UID:f991870b8e5845fa8589084b25c8a513@www.akbild.ac.at
CATEGORIES:Vorträge / Veranstaltungen
CREATED:20221117T130725Z
DESCRIPTION:Präsentation des Kinderbuchs Kunst! Forschen mit Autorin Sigr
 id Eyb-Green sowie einer Lesung mit Lisa Kröll im Rahmen der Reihe Wer A
 … sagt der A…kademiebibliothek
LAST-MODIFIED:20240919T080544Z
URL:https://www.akbild.ac.at/de/universitaet/universitaetsbibliothek/veran
 staltungen-1/vortraege-events/2022/kunst-forschen
END:VEVENT
BEGIN:VTIMEZONE
TZID:Europe/Vienna
X-LIC-LOCATION:Europe/Vienna
BEGIN:STANDARD
DTSTART:20221030T020000
TZNAME:CET
TZOFFSETFROM:+0200
TZOFFSETTO:+0100
END:STANDARD
END:VTIMEZONE
END:VCALENDAR
