BEGIN:VCALENDAR
VERSION:2.0
PRODID:-//Plone.org//NONSGML plone.app.event//EN
X-WR-TIMEZONE:Europe/Vienna
BEGIN:VEVENT
SUMMARY:Milena Nights - ein literarischer Leseabend mit Katharina Tiwald\,
  Peter Waldeck und Marc Carnal
DTSTART;TZID=Europe/Vienna:20220921T180000
DTSTAMP:20260423T213202Z
UID:971c7c3c00cc4e4a9c504e7f3a8301bd@www.akbild.ac.at
CATEGORIES:Vorträge / Veranstaltungen
CREATED:20220914T110112Z
DESCRIPTION:Katharina Tiwald\, Peter Waldeck und Marc Carnal präsentieren
  den Wiener Milena Verlag und lesen aus neuen und alten Werken.
LAST-MODIFIED:20240919T080544Z
URL:https://www.akbild.ac.at/de/universitaet/universitaetsbibliothek/veran
 staltungen-1/vortraege-events/2022/milena-nights-ein-literarischer-leseabe
 nd-mit-katharina-tiwald-peter-waldeck-und-marc-carnal
END:VEVENT
BEGIN:VTIMEZONE
TZID:Europe/Vienna
X-LIC-LOCATION:Europe/Vienna
BEGIN:DAYLIGHT
DTSTART:20220327T030000
TZNAME:CEST
TZOFFSETFROM:+0100
TZOFFSETTO:+0200
END:DAYLIGHT
END:VTIMEZONE
END:VCALENDAR
