BEGIN:VCALENDAR
VERSION:2.0
PRODID:-//Plone.org//NONSGML plone.app.event//EN
X-WR-TIMEZONE:Europe/Vienna
BEGIN:VEVENT
SUMMARY:Gänsekiel\, Kringel\, Tintenklecks –  Kurrentschrift schreiben 
 und lesen
DTSTART;TZID=Europe/Vienna:20231109T143000
DTEND;TZID=Europe/Vienna:20231109T163000
DTSTAMP:20260424T185918Z
UID:debfb6e8c1344874bee01497a79c7dc0@www.akbild.ac.at
CATEGORIES:Vorträge / Veranstaltungen
CREATED:20230928T145556Z
DESCRIPTION:Ein dreiteiliger Kurrent-Workshop des Universitätsarchivs mit
  Ulrike Hirhager im Rahmen der Reihe WissensWert der A…kademiebibliothek
LAST-MODIFIED:20240919T080544Z
URL:https://www.akbild.ac.at/de/universitaet/universitaetsbibliothek/veran
 staltungen-1/vortraege-events/2023/copy_of_gaensekiel-kringel-tintenklecks
 -kurrentschrift-schreiben-und-lesen
END:VEVENT
BEGIN:VTIMEZONE
TZID:Europe/Vienna
X-LIC-LOCATION:Europe/Vienna
BEGIN:STANDARD
DTSTART:20231029T020000
TZNAME:CET
TZOFFSETFROM:+0200
TZOFFSETTO:+0100
END:STANDARD
END:VTIMEZONE
END:VCALENDAR
