BEGIN:VCALENDAR
VERSION:2.0
PRODID:-//Plone.org//NONSGML plone.app.event//EN
X-WR-TIMEZONE:Europe/Vienna
BEGIN:VEVENT
SUMMARY:Einführung in die Benützung der Bibliothek der Akademie der bild
 enden Künste Wien
DTSTART;TZID=Europe/Vienna:20230309T100000
DTEND;TZID=Europe/Vienna:20230309T110000
DTSTAMP:20260425T123655Z
UID:5d8dad6ce089432e8e1281d0c7eabf11@www.akbild.ac.at
CATEGORIES:Vorträge / Veranstaltungen
CREATED:20230217T144432Z
DESCRIPTION:Eine Einführung in die Benützung der Bestände der A...kadem
 iebibliothek mit Patrizia Wiesner-Ledermann in Rahmen der Reihe WissensWer
 t.
LAST-MODIFIED:20240919T080544Z
URL:https://www.akbild.ac.at/de/universitaet/universitaetsbibliothek/veran
 staltungen-1/vortraege-events/2023/copy_of_new-event
END:VEVENT
BEGIN:VTIMEZONE
TZID:Europe/Vienna
X-LIC-LOCATION:Europe/Vienna
BEGIN:STANDARD
DTSTART:20221030T020000
TZNAME:CET
TZOFFSETFROM:+0200
TZOFFSETTO:+0100
END:STANDARD
END:VTIMEZONE
END:VCALENDAR
