BEGIN:VCALENDAR
VERSION:2.0
PRODID:-//Plone.org//NONSGML plone.app.event//EN
X-WR-TIMEZONE:Europe/Vienna
BEGIN:VEVENT
SUMMARY:Die historische Bibliothek der Akademie der bildenden Künste Wien
DTSTART;TZID=Europe/Vienna:20230615T110000
DTEND;TZID=Europe/Vienna:20230615T120000
DTSTAMP:20260423T204415Z
UID:e2c480c71ba54d32b316fd96724d7cb8@www.akbild.ac.at
CATEGORIES:Vorträge / Veranstaltungen
CREATED:20230419T150545Z
DESCRIPTION:Eine Führung durch die historischen Räume und die Sammlung a
 lter Druckschriften der A...kademiebibliothek mit Martin Kreuz im Rahmen d
 er Reihe WissensWert.
LAST-MODIFIED:20240919T080544Z
URL:https://www.akbild.ac.at/de/universitaet/universitaetsbibliothek/veran
 staltungen-1/vortraege-events/2023/die-historische-bibliothek-der-akademie
 -der-bildenden-kuenste-wien
END:VEVENT
BEGIN:VTIMEZONE
TZID:Europe/Vienna
X-LIC-LOCATION:Europe/Vienna
BEGIN:DAYLIGHT
DTSTART:20230326T030000
TZNAME:CEST
TZOFFSETFROM:+0100
TZOFFSETTO:+0200
END:DAYLIGHT
END:VTIMEZONE
END:VCALENDAR
