BEGIN:VCALENDAR
VERSION:2.0
PRODID:-//Plone.org//NONSGML plone.app.event//EN
X-WR-TIMEZONE:Europe/Vienna
BEGIN:VEVENT
SUMMARY:A book for Kinderhospiz Netz
DTSTART;VALUE=DATE:20240618
DTEND;VALUE=DATE:20240629
DTSTAMP:20260424T090137Z
UID:a454e078cab740d8b3ad52f65c7689cb@www.akbild.ac.at
CATEGORIES:Vorträge / Veranstaltungen
CREATED:20240516T124742Z
DESCRIPTION:Der karitative Bücherbasar der Universitätsbibliothek zuguns
 ten von Kinderhospiz Netz\, einem Verein zur Betreuung schwerstkranker Kin
 der zu Hause und im Kindertageshospiz.
LAST-MODIFIED:20240919T080540Z
URL:https://www.akbild.ac.at/de/universitaet/universitaetsbibliothek/veran
 staltungen-1/vortraege-events/2024-1/a-book-for-kinderhospiz-netz
END:VEVENT
END:VCALENDAR
