BEGIN:VCALENDAR
VERSION:2.0
PRODID:-//Plone.org//NONSGML plone.app.event//EN
X-WR-TIMEZONE:Europe/Vienna
BEGIN:VEVENT
SUMMARY:Einführung in die Benützung der Bibliothek der Akademie der bild
 enden Künste Wien (in Englisch)
DTSTART;TZID=Europe/Vienna:20240307T110000
DTEND;TZID=Europe/Vienna:20240307T120000
DTSTAMP:20260425T215125Z
UID:d451d62288924b7a888f2459bbf6109d@www.akbild.ac.at
CATEGORIES:Vorträge / Veranstaltungen
CREATED:20240221T155126Z
DESCRIPTION:Eine Einführung in die Benützung der Bestände der A...kadem
 iebibliothek mit Patrizia Wiesner-Ledermann in Rahmen der Reihe WissensWer
 t.
LAST-MODIFIED:20240919T080540Z
URL:https://www.akbild.ac.at/de/universitaet/universitaetsbibliothek/veran
 staltungen-1/vortraege-events/2024-1/einfuehrung-in-die-benuetzung-der-bib
 liothek-der-akademie-der-bildenden-kuenste-wien
END:VEVENT
BEGIN:VTIMEZONE
TZID:Europe/Vienna
X-LIC-LOCATION:Europe/Vienna
BEGIN:STANDARD
DTSTART:20231029T020000
TZNAME:CET
TZOFFSETFROM:+0200
TZOFFSETTO:+0100
END:STANDARD
END:VTIMEZONE
END:VCALENDAR
